Workbook

Sheet Aylık veri
A1: Ay (YYYY-AA) | B1: Dönem başı müşteri | C1: Yeni müşteri | D1: Kaybedilen müşteri | E1: Dönem sonu müşteri | F1: MRR (TL) | G1: Pazarlama + satış gideri | H1: Toplam gider | I1: Ay sonu kasa | J1: Brüt marj % | K1: Not
A2: 2026-01 | B2: 40 | C2: 10 | D2: 2 | E2: =IF(A2="","",B2+C2-D2) | F2: 60000 | G2: 45000 | H2: 210000 | I2: 1800000 | J2: 80 | K2: Örnek
A3: 2026-02 | B3: =IF(A3="","",E2) | C3: 12 | D3: 3 | E3: =IF(A3="","",B3+C3-D3) | F3: 66000 | G3: 50000 | H3: 215000 | I3: 1650000 | J3: 80 | K3: Örnek
A4: 2026-03 | B4: =IF(A4="","",E3) | C4: 14 | D4: 3 | E4: =IF(A4="","",B4+C4-D4) | F4: 74000 | G4: 52000 | H4: 220000 | I4: 1495000 | J4: 80 | K4: Örnek
A5: 2026-04 | B5: =IF(A5="","",E4) | C5: 11 | D5: 4 | E5: =IF(A5="","",B5+C5-D5) | F5: 79000 | G5: 48000 | H5: 222000 | I5: 1340000 | J5: 80 | K5: Örnek
A6: 2026-05 | B6: =IF(A6="","",E5) | C6: 15 | D6: 3 | E6: =IF(A6="","",B6+C6-D6) | F6: 88000 | G6: 55000 | H6: 230000 | I6: 1180000 | J6: 80 | K6: Örnek
A7: 2026-06 | B7: =IF(A7="","",E6) | C7: 16 | D7: 4 | E7: =IF(A7="","",B7+C7-D7) | F7: 97000 | G7: 58000 | H7: 235000 | I7: 1020000 | J7: 80 | K7: Örnek
B8: =IF(A8="","",E7) | E8: =IF(A8="","",B8+C8-D8)
B9: =IF(A9="","",E8) | E9: =IF(A9="","",B9+C9-D9)
B10: =IF(A10="","",E9) | E10: =IF(A10="","",B10+C10-D10)
B11: =IF(A11="","",E10) | E11: =IF(A11="","",B11+C11-D11)
B12: =IF(A12="","",E11) | E12: =IF(A12="","",B12+C12-D12)
B13: =IF(A13="","",E12) | E13: =IF(A13="","",B13+C13-D13)

Sheet Göstergeler
A1: Ay | B1: MRR büyümesi % | C1: Churn % | D1: CAC | E1: ARPA | F1: LTV | G1: LTV/CAC | H1: Geri ödeme (ay) | I1: Net burn | J1: Runway (ay)
A2: =IF('Aylık veri'!A2="","",'Aylık veri'!A2) | B2: ="" | C2: =IF('Aylık veri'!A2="","",IFERROR(ROUND('Aylık veri'!D2/'Aylık veri'!B2*100,1),"")) | D2: =IF('Aylık veri'!A2="","",IFERROR(ROUND('Aylık veri'!G2/'Aylık veri'!C2,0),"")) | E2: =IF('Aylık veri'!A2="","",IFERROR(ROUND('Aylık veri'!F2/'Aylık veri'!E2,0),"")) | F2: =IF('Aylık veri'!A2="","",IFERROR(ROUND(E2*'Aylık veri'!J2/100/(C2/100),0),"")) | G2: =IF('Aylık veri'!A2="","",IFERROR(ROUND(F2/D2,1),"")) | H2: =IF('Aylık veri'!A2="","",IFERROR(ROUND(D2/(E2*'Aylık veri'!J2/100),1),"")) | I2: ="" | J2: =""
A3: =IF('Aylık veri'!A3="","",'Aylık veri'!A3) | B3: =IF('Aylık veri'!A3="","",IFERROR(ROUND(('Aylık veri'!F3/'Aylık veri'!F2-1)*100,1),"")) | C3: =IF('Aylık veri'!A3="","",IFERROR(ROUND('Aylık veri'!D3/'Aylık veri'!B3*100,1),"")) | D3: =IF('Aylık veri'!A3="","",IFERROR(ROUND('Aylık veri'!G3/'Aylık veri'!C3,0),"")) | E3: =IF('Aylık veri'!A3="","",IFERROR(ROUND('Aylık veri'!F3/'Aylık veri'!E3,0),"")) | F3: =IF('Aylık veri'!A3="","",IFERROR(ROUND(E3*'Aylık veri'!J3/100/(C3/100),0),"")) | G3: =IF('Aylık veri'!A3="","",IFERROR(ROUND(F3/D3,1),"")) | H3: =IF('Aylık veri'!A3="","",IFERROR(ROUND(D3/(E3*'Aylık veri'!J3/100),1),"")) | I3: =IF('Aylık veri'!A3="","",IF('Aylık veri'!I2="","",'Aylık veri'!I2-'Aylık veri'!I3)) | J3: =IF('Aylık veri'!A3="","",IF(I3="","",IF(I3>0,ROUND('Aylık veri'!I3/I3,1),"Kasa artıyor")))
A4: =IF('Aylık veri'!A4="","",'Aylık veri'!A4) | B4: =IF('Aylık veri'!A4="","",IFERROR(ROUND(('Aylık veri'!F4/'Aylık veri'!F3-1)*100,1),"")) | C4: =IF('Aylık veri'!A4="","",IFERROR(ROUND('Aylık veri'!D4/'Aylık veri'!B4*100,1),"")) | D4: =IF('Aylık veri'!A4="","",IFERROR(ROUND('Aylık veri'!G4/'Aylık veri'!C4,0),"")) | E4: =IF('Aylık veri'!A4="","",IFERROR(ROUND('Aylık veri'!F4/'Aylık veri'!E4,0),"")) | F4: =IF('Aylık veri'!A4="","",IFERROR(ROUND(E4*'Aylık veri'!J4/100/(C4/100),0),"")) | G4: =IF('Aylık veri'!A4="","",IFERROR(ROUND(F4/D4,1),"")) | H4: =IF('Aylık veri'!A4="","",IFERROR(ROUND(D4/(E4*'Aylık veri'!J4/100),1),"")) | I4: =IF('Aylık veri'!A4="","",IF('Aylık veri'!I3="","",'Aylık veri'!I3-'Aylık veri'!I4)) | J4: =IF('Aylık veri'!A4="","",IF(I4="","",IF(I4>0,ROUND('Aylık veri'!I4/I4,1),"Kasa artıyor")))
A5: =IF('Aylık veri'!A5="","",'Aylık veri'!A5) | B5: =IF('Aylık veri'!A5="","",IFERROR(ROUND(('Aylık veri'!F5/'Aylık veri'!F4-1)*100,1),"")) | C5: =IF('Aylık veri'!A5="","",IFERROR(ROUND('Aylık veri'!D5/'Aylık veri'!B5*100,1),"")) | D5: =IF('Aylık veri'!A5="","",IFERROR(ROUND('Aylık veri'!G5/'Aylık veri'!C5,0),"")) | E5: =IF('Aylık veri'!A5="","",IFERROR(ROUND('Aylık veri'!F5/'Aylık veri'!E5,0),"")) | F5: =IF('Aylık veri'!A5="","",IFERROR(ROUND(E5*'Aylık veri'!J5/100/(C5/100),0),"")) | G5: =IF('Aylık veri'!A5="","",IFERROR(ROUND(F5/D5,1),"")) | H5: =IF('Aylık veri'!A5="","",IFERROR(ROUND(D5/(E5*'Aylık veri'!J5/100),1),"")) | I5: =IF('Aylık veri'!A5="","",IF('Aylık veri'!I4="","",'Aylık veri'!I4-'Aylık veri'!I5)) | J5: =IF('Aylık veri'!A5="","",IF(I5="","",IF(I5>0,ROUND('Aylık veri'!I5/I5,1),"Kasa artıyor")))
A6: =IF('Aylık veri'!A6="","",'Aylık veri'!A6) | B6: =IF('Aylık veri'!A6="","",IFERROR(ROUND(('Aylık veri'!F6/'Aylık veri'!F5-1)*100,1),"")) | C6: =IF('Aylık veri'!A6="","",IFERROR(ROUND('Aylık veri'!D6/'Aylık veri'!B6*100,1),"")) | D6: =IF('Aylık veri'!A6="","",IFERROR(ROUND('Aylık veri'!G6/'Aylık veri'!C6,0),"")) | E6: =IF('Aylık veri'!A6="","",IFERROR(ROUND('Aylık veri'!F6/'Aylık veri'!E6,0),"")) | F6: =IF('Aylık veri'!A6="","",IFERROR(ROUND(E6*'Aylık veri'!J6/100/(C6/100),0),"")) | G6: =IF('Aylık veri'!A6="","",IFERROR(ROUND(F6/D6,1),"")) | H6: =IF('Aylık veri'!A6="","",IFERROR(ROUND(D6/(E6*'Aylık veri'!J6/100),1),"")) | I6: =IF('Aylık veri'!A6="","",IF('Aylık veri'!I5="","",'Aylık veri'!I5-'Aylık veri'!I6)) | J6: =IF('Aylık veri'!A6="","",IF(I6="","",IF(I6>0,ROUND('Aylık veri'!I6/I6,1),"Kasa artıyor")))
A7: =IF('Aylık veri'!A7="","",'Aylık veri'!A7) | B7: =IF('Aylık veri'!A7="","",IFERROR(ROUND(('Aylık veri'!F7/'Aylık veri'!F6-1)*100,1),"")) | C7: =IF('Aylık veri'!A7="","",IFERROR(ROUND('Aylık veri'!D7/'Aylık veri'!B7*100,1),"")) | D7: =IF('Aylık veri'!A7="","",IFERROR(ROUND('Aylık veri'!G7/'Aylık veri'!C7,0),"")) | E7: =IF('Aylık veri'!A7="","",IFERROR(ROUND('Aylık veri'!F7/'Aylık veri'!E7,0),"")) | F7: =IF('Aylık veri'!A7="","",IFERROR(ROUND(E7*'Aylık veri'!J7/100/(C7/100),0),"")) | G7: =IF('Aylık veri'!A7="","",IFERROR(ROUND(F7/D7,1),"")) | H7: =IF('Aylık veri'!A7="","",IFERROR(ROUND(D7/(E7*'Aylık veri'!J7/100),1),"")) | I7: =IF('Aylık veri'!A7="","",IF('Aylık veri'!I6="","",'Aylık veri'!I6-'Aylık veri'!I7)) | J7: =IF('Aylık veri'!A7="","",IF(I7="","",IF(I7>0,ROUND('Aylık veri'!I7/I7,1),"Kasa artıyor")))
A8: =IF('Aylık veri'!A8="","",'Aylık veri'!A8) | B8: =IF('Aylık veri'!A8="","",IFERROR(ROUND(('Aylık veri'!F8/'Aylık veri'!F7-1)*100,1),"")) | C8: =IF('Aylık veri'!A8="","",IFERROR(ROUND('Aylık veri'!D8/'Aylık veri'!B8*100,1),"")) | D8: =IF('Aylık veri'!A8="","",IFERROR(ROUND('Aylık veri'!G8/'Aylık veri'!C8,0),"")) | E8: =IF('Aylık veri'!A8="","",IFERROR(ROUND('Aylık veri'!F8/'Aylık veri'!E8,0),"")) | F8: =IF('Aylık veri'!A8="","",IFERROR(ROUND(E8*'Aylık veri'!J8/100/(C8/100),0),"")) | G8: =IF('Aylık veri'!A8="","",IFERROR(ROUND(F8/D8,1),"")) | H8: =IF('Aylık veri'!A8="","",IFERROR(ROUND(D8/(E8*'Aylık veri'!J8/100),1),"")) | I8: =IF('Aylık veri'!A8="","",IF('Aylık veri'!I7="","",'Aylık veri'!I7-'Aylık veri'!I8)) | J8: =IF('Aylık veri'!A8="","",IF(I8="","",IF(I8>0,ROUND('Aylık veri'!I8/I8,1),"Kasa artıyor")))
A9: =IF('Aylık veri'!A9="","",'Aylık veri'!A9) | B9: =IF('Aylık veri'!A9="","",IFERROR(ROUND(('Aylık veri'!F9/'Aylık veri'!F8-1)*100,1),"")) | C9: =IF('Aylık veri'!A9="","",IFERROR(ROUND('Aylık veri'!D9/'Aylık veri'!B9*100,1),"")) | D9: =IF('Aylık veri'!A9="","",IFERROR(ROUND('Aylık veri'!G9/'Aylık veri'!C9,0),"")) | E9: =IF('Aylık veri'!A9="","",IFERROR(ROUND('Aylık veri'!F9/'Aylık veri'!E9,0),"")) | F9: =IF('Aylık veri'!A9="","",IFERROR(ROUND(E9*'Aylık veri'!J9/100/(C9/100),0),"")) | G9: =IF('Aylık veri'!A9="","",IFERROR(ROUND(F9/D9,1),"")) | H9: =IF('Aylık veri'!A9="","",IFERROR(ROUND(D9/(E9*'Aylık veri'!J9/100),1),"")) | I9: =IF('Aylık veri'!A9="","",IF('Aylık veri'!I8="","",'Aylık veri'!I8-'Aylık veri'!I9)) | J9: =IF('Aylık veri'!A9="","",IF(I9="","",IF(I9>0,ROUND('Aylık veri'!I9/I9,1),"Kasa artıyor")))
A10: =IF('Aylık veri'!A10="","",'Aylık veri'!A10) | B10: =IF('Aylık veri'!A10="","",IFERROR(ROUND(('Aylık veri'!F10/'Aylık veri'!F9-1)*100,1),"")) | C10: =IF('Aylık veri'!A10="","",IFERROR(ROUND('Aylık veri'!D10/'Aylık veri'!B10*100,1),"")) | D10: =IF('Aylık veri'!A10="","",IFERROR(ROUND('Aylık veri'!G10/'Aylık veri'!C10,0),"")) | E10: =IF('Aylık veri'!A10="","",IFERROR(ROUND('Aylık veri'!F10/'Aylık veri'!E10,0),"")) | F10: =IF('Aylık veri'!A10="","",IFERROR(ROUND(E10*'Aylık veri'!J10/100/(C10/100),0),"")) | G10: =IF('Aylık veri'!A10="","",IFERROR(ROUND(F10/D10,1),"")) | H10: =IF('Aylık veri'!A10="","",IFERROR(ROUND(D10/(E10*'Aylık veri'!J10/100),1),"")) | I10: =IF('Aylık veri'!A10="","",IF('Aylık veri'!I9="","",'Aylık veri'!I9-'Aylık veri'!I10)) | J10: =IF('Aylık veri'!A10="","",IF(I10="","",IF(I10>0,ROUND('Aylık veri'!I10/I10,1),"Kasa artıyor")))
A11: =IF('Aylık veri'!A11="","",'Aylık veri'!A11) | B11: =IF('Aylık veri'!A11="","",IFERROR(ROUND(('Aylık veri'!F11/'Aylık veri'!F10-1)*100,1),"")) | C11: =IF('Aylık veri'!A11="","",IFERROR(ROUND('Aylık veri'!D11/'Aylık veri'!B11*100,1),"")) | D11: =IF('Aylık veri'!A11="","",IFERROR(ROUND('Aylık veri'!G11/'Aylık veri'!C11,0),"")) | E11: =IF('Aylık veri'!A11="","",IFERROR(ROUND('Aylık veri'!F11/'Aylık veri'!E11,0),"")) | F11: =IF('Aylık veri'!A11="","",IFERROR(ROUND(E11*'Aylık veri'!J11/100/(C11/100),0),"")) | G11: =IF('Aylık veri'!A11="","",IFERROR(ROUND(F11/D11,1),"")) | H11: =IF('Aylık veri'!A11="","",IFERROR(ROUND(D11/(E11*'Aylık veri'!J11/100),1),"")) | I11: =IF('Aylık veri'!A11="","",IF('Aylık veri'!I10="","",'Aylık veri'!I10-'Aylık veri'!I11)) | J11: =IF('Aylık veri'!A11="","",IF(I11="","",IF(I11>0,ROUND('Aylık veri'!I11/I11,1),"Kasa artıyor")))
A12: =IF('Aylık veri'!A12="","",'Aylık veri'!A12) | B12: =IF('Aylık veri'!A12="","",IFERROR(ROUND(('Aylık veri'!F12/'Aylık veri'!F11-1)*100,1),"")) | C12: =IF('Aylık veri'!A12="","",IFERROR(ROUND('Aylık veri'!D12/'Aylık veri'!B12*100,1),"")) | D12: =IF('Aylık veri'!A12="","",IFERROR(ROUND('Aylık veri'!G12/'Aylık veri'!C12,0),"")) | E12: =IF('Aylık veri'!A12="","",IFERROR(ROUND('Aylık veri'!F12/'Aylık veri'!E12,0),"")) | F12: =IF('Aylık veri'!A12="","",IFERROR(ROUND(E12*'Aylık veri'!J12/100/(C12/100),0),"")) | G12: =IF('Aylık veri'!A12="","",IFERROR(ROUND(F12/D12,1),"")) | H12: =IF('Aylık veri'!A12="","",IFERROR(ROUND(D12/(E12*'Aylık veri'!J12/100),1),"")) | I12: =IF('Aylık veri'!A12="","",IF('Aylık veri'!I11="","",'Aylık veri'!I11-'Aylık veri'!I12)) | J12: =IF('Aylık veri'!A12="","",IF(I12="","",IF(I12>0,ROUND('Aylık veri'!I12/I12,1),"Kasa artıyor")))
A13: =IF('Aylık veri'!A13="","",'Aylık veri'!A13) | B13: =IF('Aylık veri'!A13="","",IFERROR(ROUND(('Aylık veri'!F13/'Aylık veri'!F12-1)*100,1),"")) | C13: =IF('Aylık veri'!A13="","",IFERROR(ROUND('Aylık veri'!D13/'Aylık veri'!B13*100,1),"")) | D13: =IF('Aylık veri'!A13="","",IFERROR(ROUND('Aylık veri'!G13/'Aylık veri'!C13,0),"")) | E13: =IF('Aylık veri'!A13="","",IFERROR(ROUND('Aylık veri'!F13/'Aylık veri'!E13,0),"")) | F13: =IF('Aylık veri'!A13="","",IFERROR(ROUND(E13*'Aylık veri'!J13/100/(C13/100),0),"")) | G13: =IF('Aylık veri'!A13="","",IFERROR(ROUND(F13/D13,1),"")) | H13: =IF('Aylık veri'!A13="","",IFERROR(ROUND(D13/(E13*'Aylık veri'!J13/100),1),"")) | I13: =IF('Aylık veri'!A13="","",IF('Aylık veri'!I12="","",'Aylık veri'!I12-'Aylık veri'!I13)) | J13: =IF('Aylık veri'!A13="","",IF(I13="","",IF(I13>0,ROUND('Aylık veri'!I13/I13,1),"Kasa artıyor")))

Sheet Kohort
A1: Kayıt ayı | B1: Başlangıç müşteri | C1: Ay 1 aktif | D1: Ay 2 aktif | E1: Ay 3 aktif | F1: Ay 4 aktif | G1: Ay 5 aktif | H1: Ay 6 aktif | I1: Ay 1 % | J1: Ay 2 % | K1: Ay 3 % | L1: Ay 4 % | M1: Ay 5 % | N1: Ay 6 % | O1: Not
A2: 2026-01 | B2: 10 | C2: 9 | D2: 8 | E2: 7 | F2: 7 | G2: 7 | H2: 6 | I2: =IF(C2="","",IFERROR(ROUND(C2/$B2*100,1),"")) | J2: =IF(D2="","",IFERROR(ROUND(D2/$B2*100,1),"")) | K2: =IF(E2="","",IFERROR(ROUND(E2/$B2*100,1),"")) | L2: =IF(F2="","",IFERROR(ROUND(F2/$B2*100,1),"")) | M2: =IF(G2="","",IFERROR(ROUND(G2/$B2*100,1),"")) | N2: =IF(H2="","",IFERROR(ROUND(H2/$B2*100,1),"")) | O2: Örnek
A3: 2026-02 | B3: 12 | C3: 10 | D3: 9 | E3: 8 | F3: 8 | I3: =IF(C3="","",IFERROR(ROUND(C3/$B3*100,1),"")) | J3: =IF(D3="","",IFERROR(ROUND(D3/$B3*100,1),"")) | K3: =IF(E3="","",IFERROR(ROUND(E3/$B3*100,1),"")) | L3: =IF(F3="","",IFERROR(ROUND(F3/$B3*100,1),"")) | M3: =IF(G3="","",IFERROR(ROUND(G3/$B3*100,1),"")) | N3: =IF(H3="","",IFERROR(ROUND(H3/$B3*100,1),"")) | O3: Örnek
A4: 2026-03 | B4: 14 | C4: 12 | D4: 11 | E4: 10 | I4: =IF(C4="","",IFERROR(ROUND(C4/$B4*100,1),"")) | J4: =IF(D4="","",IFERROR(ROUND(D4/$B4*100,1),"")) | K4: =IF(E4="","",IFERROR(ROUND(E4/$B4*100,1),"")) | L4: =IF(F4="","",IFERROR(ROUND(F4/$B4*100,1),"")) | M4: =IF(G4="","",IFERROR(ROUND(G4/$B4*100,1),"")) | N4: =IF(H4="","",IFERROR(ROUND(H4/$B4*100,1),"")) | O4: Örnek
A5: 2026-04 | B5: 11 | C5: 10 | D5: 9 | I5: =IF(C5="","",IFERROR(ROUND(C5/$B5*100,1),"")) | J5: =IF(D5="","",IFERROR(ROUND(D5/$B5*100,1),"")) | K5: =IF(E5="","",IFERROR(ROUND(E5/$B5*100,1),"")) | L5: =IF(F5="","",IFERROR(ROUND(F5/$B5*100,1),"")) | M5: =IF(G5="","",IFERROR(ROUND(G5/$B5*100,1),"")) | N5: =IF(H5="","",IFERROR(ROUND(H5/$B5*100,1),"")) | O5: Örnek
A6: 2026-05 | B6: 15 | C6: 13 | I6: =IF(C6="","",IFERROR(ROUND(C6/$B6*100,1),"")) | J6: =IF(D6="","",IFERROR(ROUND(D6/$B6*100,1),"")) | K6: =IF(E6="","",IFERROR(ROUND(E6/$B6*100,1),"")) | L6: =IF(F6="","",IFERROR(ROUND(F6/$B6*100,1),"")) | M6: =IF(G6="","",IFERROR(ROUND(G6/$B6*100,1),"")) | N6: =IF(H6="","",IFERROR(ROUND(H6/$B6*100,1),"")) | O6: Örnek
A7: 2026-06 | B7: 16 | I7: =IF(C7="","",IFERROR(ROUND(C7/$B7*100,1),"")) | J7: =IF(D7="","",IFERROR(ROUND(D7/$B7*100,1),"")) | K7: =IF(E7="","",IFERROR(ROUND(E7/$B7*100,1),"")) | L7: =IF(F7="","",IFERROR(ROUND(F7/$B7*100,1),"")) | M7: =IF(G7="","",IFERROR(ROUND(G7/$B7*100,1),"")) | N7: =IF(H7="","",IFERROR(ROUND(H7/$B7*100,1),"")) | O7: Örnek
I8: =IF(C8="","",IFERROR(ROUND(C8/$B8*100,1),"")) | J8: =IF(D8="","",IFERROR(ROUND(D8/$B8*100,1),"")) | K8: =IF(E8="","",IFERROR(ROUND(E8/$B8*100,1),"")) | L8: =IF(F8="","",IFERROR(ROUND(F8/$B8*100,1),"")) | M8: =IF(G8="","",IFERROR(ROUND(G8/$B8*100,1),"")) | N8: =IF(H8="","",IFERROR(ROUND(H8/$B8*100,1),""))
I9: =IF(C9="","",IFERROR(ROUND(C9/$B9*100,1),"")) | J9: =IF(D9="","",IFERROR(ROUND(D9/$B9*100,1),"")) | K9: =IF(E9="","",IFERROR(ROUND(E9/$B9*100,1),"")) | L9: =IF(F9="","",IFERROR(ROUND(F9/$B9*100,1),"")) | M9: =IF(G9="","",IFERROR(ROUND(G9/$B9*100,1),"")) | N9: =IF(H9="","",IFERROR(ROUND(H9/$B9*100,1),""))
I10: =IF(C10="","",IFERROR(ROUND(C10/$B10*100,1),"")) | J10: =IF(D10="","",IFERROR(ROUND(D10/$B10*100,1),"")) | K10: =IF(E10="","",IFERROR(ROUND(E10/$B10*100,1),"")) | L10: =IF(F10="","",IFERROR(ROUND(F10/$B10*100,1),"")) | M10: =IF(G10="","",IFERROR(ROUND(G10/$B10*100,1),"")) | N10: =IF(H10="","",IFERROR(ROUND(H10/$B10*100,1),""))
I11: =IF(C11="","",IFERROR(ROUND(C11/$B11*100,1),"")) | J11: =IF(D11="","",IFERROR(ROUND(D11/$B11*100,1),"")) | K11: =IF(E11="","",IFERROR(ROUND(E11/$B11*100,1),"")) | L11: =IF(F11="","",IFERROR(ROUND(F11/$B11*100,1),"")) | M11: =IF(G11="","",IFERROR(ROUND(G11/$B11*100,1),"")) | N11: =IF(H11="","",IFERROR(ROUND(H11/$B11*100,1),""))
I12: =IF(C12="","",IFERROR(ROUND(C12/$B12*100,1),"")) | J12: =IF(D12="","",IFERROR(ROUND(D12/$B12*100,1),"")) | K12: =IF(E12="","",IFERROR(ROUND(E12/$B12*100,1),"")) | L12: =IF(F12="","",IFERROR(ROUND(F12/$B12*100,1),"")) | M12: =IF(G12="","",IFERROR(ROUND(G12/$B12*100,1),"")) | N12: =IF(H12="","",IFERROR(ROUND(H12/$B12*100,1),""))
I13: =IF(C13="","",IFERROR(ROUND(C13/$B13*100,1),"")) | J13: =IF(D13="","",IFERROR(ROUND(D13/$B13*100,1),"")) | K13: =IF(E13="","",IFERROR(ROUND(E13/$B13*100,1),"")) | L13: =IF(F13="","",IFERROR(ROUND(F13/$B13*100,1),"")) | M13: =IF(G13="","",IFERROR(ROUND(G13/$B13*100,1),"")) | N13: =IF(H13="","",IFERROR(ROUND(H13/$B13*100,1),""))

Sheet Hakkında
A1: Startup metrik paneli (Ortak Atölye)
A2: Bu dosya, Ortak Atölye ‘Startup Metrikleri: Hangi Aşamada Neyi İzlemeli’ rehberinin eşlik tablosudur: ortakalan.io/atolye/startup-metrikleri/
A3: ‘Aylık veri’ sayfasına her ay kapanışında yalnızca beyaz girdileri yazın: ay (YYYY-AA), yeni müşteri, kaybedilen müşteri, MRR, pazarlama + satış gideri, toplam gider, ay sonu kasa ve brüt marj %. Dönem başı ve dönem sonu müşteri otomatik hesaplanır; yalnızca ilk ayın dönem başı müşterisini elle girin.
A4: ‘Göstergeler’ sayfası formüllerle dolar: MRR büyümesi %, churn % (kaybedilen ÷ dönem başı müşteri), CAC (pazarlama + satış gideri ÷ yeni müşteri), ARPA (MRR ÷ dönem sonu müşteri), LTV (ARPA × brüt marj ÷ churn), LTV/CAC, geri ödeme süresi (CAC ÷ ARPA × brüt marj), net burn (geçen ay kasa − bu ay kasa) ve runway (kasa ÷ net burn).
A5: Net burn kasa farkından hesaplanır; ay içinde yatırım veya kredi girişi olduysa o ayın kasa değerinden bu girişi düşerek yazın.
A6: ‘Kohort’ sayfasında her satır bir kayıt ayıdır: o ay kazanılan müşteri sayısını ve sonraki aylarda hâlâ aktif olanların sayısını girin; yüzdeler otomatik hesaplanır. İsterseniz yüzde sütunlarına Excel’in Koşullu Biçimlendirme > Renk Ölçekleri seçeneğiyle ısı haritası ekleyin.
A7: ‘Örnek’ işaretli satırlar uydurma örnek verilerdir; kendi verinizi girmeden önce silin veya üzerine yazın. Hedef oran vermiyoruz; rehberdeki kaynaklı referanslara bakın. TL ve USD raporlaması için rehberdeki notu okuyun.
A8: Bu tablo genel bilgilendirme amaçlıdır; mali danışmanlık değildir.
A9: Ortak Alan Atölye · ortakalan.io/atolye · Ücretsiz kullanılabilir; kaynak gösterirseniz seviniriz.
